BEGIN:VCALENDAR
VERSION:2.0
PRODID:-//Meg Dunley – Creativity Coach and Writer - ECPv6.15.20//NONSGML v1.0//EN
CALSCALE:GREGORIAN
METHOD:PUBLISH
X-ORIGINAL-URL:https://megdunley.com
X-WR-CALDESC:Events for Meg Dunley – Creativity Coach and Writer
REFRESH-INTERVAL;VALUE=DURATION:PT1H
X-Robots-Tag:noindex
X-PUBLISHED-TTL:PT1H
BEGIN:VTIMEZONE
TZID:Australia/Melbourne
BEGIN:STANDARD
TZOFFSETFROM:+1100
TZOFFSETTO:+1000
TZNAME:AEST
DTSTART:20250405T160000
END:STANDARD
BEGIN:DAYLIGHT
TZOFFSETFROM:+1000
TZOFFSETTO:+1100
TZNAME:AEDT
DTSTART:20251004T160000
END:DAYLIGHT
BEGIN:STANDARD
TZOFFSETFROM:+1100
TZOFFSETTO:+1000
TZNAME:AEST
DTSTART:20260404T160000
END:STANDARD
BEGIN:DAYLIGHT
TZOFFSETFROM:+1000
TZOFFSETTO:+1100
TZNAME:AEDT
DTSTART:20261003T160000
END:DAYLIGHT
BEGIN:STANDARD
TZOFFSETFROM:+1100
TZOFFSETTO:+1000
TZNAME:AEST
DTSTART:20270403T160000
END:STANDARD
BEGIN:DAYLIGHT
TZOFFSETFROM:+1000
TZOFFSETTO:+1100
TZNAME:AEDT
DTSTART:20271002T160000
END:DAYLIGHT
END:VTIMEZONE
BEGIN:VEVENT
DTSTART;TZID=Australia/Melbourne:20261109T123000
DTEND;TZID=Australia/Melbourne:20261109T133000
DTSTAMP:20260425T050406
CREATED:20251114T041530Z
LAST-MODIFIED:20260213T093218Z
UID:10000268-1794227400-1794231000@megdunley.com
SUMMARY:Navigating creative transitions and pivots group coaching masterclass
DESCRIPTION:Group coaching masterclasses are for creatives who want to strengthen their mindset and build sustainable creative practices\n\n\n\n\n\n\n\nThis month we’ll explore managing shifts in medium\, style\, audience\, or direction with confidence\n\n\n\n\nJoin me for monthly interactive sessions where we explore practical strategies for common creative challenges—from overcoming self-doubt and comparison to building courage\, setting boundaries\, and maintaining momentum through life’s different seasons. \n\n\n\nEach masterclass combines teaching\, reflection exercises\, and community discussion\, with dedicated time for your questions. Whether you’re navigating a creative transition\, struggling with burnout\, or simply want to grow alongside others who understand the creative journey\, these sessions offer both tools and connection. \n\n\n\n\n \n\n\n\nHow to Join\n\n\n\nYou can choose the option that suits you — Zoom links are sent the day before the live session\, and replays are sent within 24 hours after the session: \n\n\n\n🎟️ Single Masterclass Ticket – $20 \n\n\n\n\nAccess this one session — live or replay included\n\n\n\nPerfect if you want to focus on a single topic or join occasionally\n\n\n\n\n📅 Spark Pass – 12 Months of Masterclasses – $180 \n\n\n\n\nAccess all 10+ monthly masterclasses for 12 months from purchase\n\n\n\nLive or replay included for every session\n\n\n\n\n\nNot ready for a full year? Try a single session first.\n\n\n\n\nBuy a single masterclass ticket\n\n\n\nBuy a Spark Pass \n\n\n\n\n\n\n\n\n\nAdditional Info:\n\n\n\n\nCurrent coaching members and program participants receive free access to the group coaching masterclasses. Non-members can join individual sessions for $20 or purchase a Spark Pass for 12-month access.\n\n\n\nAll ticket and pass holders receive the Zoom link within 24 hours before the live session\, and the replay is sent within 24 hours after the session.\n\n\n\n\n\n\n\n\n\nGrab your seat for this masterclass\, or secure full-year access with the Spark Pass.\n\n\n\n\nBuy a single masterclass ticket\n\n\n\nBuy a Spark Pass\n\n\n\n\n\n\n\n\n\n \nLike this? Share it with your people:\n				Share on Facebook (Opens in new window)\n				Facebook\n			\n				Share on LinkedIn (Opens in new window)\n				LinkedIn\n			\n				Share on Bluesky (Opens in new window)\n				Bluesky\n			\n				Share on Threads (Opens in new window)\n				Threads\n			\n				Share on WhatsApp (Opens in new window)\n				WhatsApp\n			\n				Share on Mastodon (Opens in new window)\n				Mastodon\n			\n				Email a link to a friend (Opens in new window)\n				Email\n			\n				Print (Opens in new window)\n				Print\n			More\n				Share on Telegram (Opens in new window)\n				Telegram\n			\n				Share on Nextdoor (Opens in new window)\n				Nextdoor\n			Like this:Like Loading...
URL:https://megdunley.com/event/navigating-creative-transitions-and-pivots-group-coaching-masterclass/
CATEGORIES:Group Coaching
ATTACH;FMTTYPE=image/png:https://megdunley.com/wp-content/uploads/2025/11/nov-2026.png
END:VEVENT
BEGIN:VEVENT
DTSTART;TZID=Australia/Melbourne:20261119T100000
DTEND;TZID=Australia/Melbourne:20261122T130000
DTSTAMP:20260425T050406
CREATED:20251018T011657Z
LAST-MODIFIED:20251219T020144Z
UID:10000186-1795082400-1795352400@megdunley.com
SUMMARY:Retreat with Meg November 2026 writing retreat
DESCRIPTION:Finish your writing year with a four day writing retreat at Retreat with Meg November 2026\n\n\n\n\n\n\n\nEARLY BIRD DISCOUNT CLOSES AT MIDNIGHT ON 22 SEPTEMBER 2026 \n\n\n\nRetreat with Meg writing retreats are fully catered\, private bedrooms and writing spaces\, with a perfect balance of writing time and together time\n\n\n\nRetreat with Meg is designed to offer you a peaceful and inspiring space to dive into your writing. Whether you want to get lost in your story\, reflect on your creative process or simply recharge in nature\, this retreat offers you sacred time. You’ll enjoy the beautiful nature-filled surroundings at Karma Kinglake where writing meets serenity. All Retreat with Meg venues are selected for their facilities\, accommodation and proximity to nature. \n\n\n\nRetreat with Meg offers the perfect blend of nurture\, structure\, and creative freedom. Our retreats provide everything you need to make extraordinary progress on your writing project. \n\n\n\nRetreat with Meg includes fully catered meals\, daily optional writing and coaching workshops\, one-on-one coaching\, an extensive library of writing and creativity resources and ample time for individual writing and reflection. \n\n\n\nBookings now open until all seven places are filled.  \n\n\n\n		\n			\n				\n					\n						\n					\n					\n						\n							\n						\n					\n				\n			\n		\n		\n\nBook your place\n\n\n	\n			\n				\n					\n				\n			\n			\n				\n					\n				\n			\n		\n		\n\n\n\n					\n\nSaleProduct on sale\n\n\nRetreat with Meg August 2026 writing retreat\n\n\n					$3\,345.00 – $6\,330.00Price range: $3\,345.00 through $6\,330.00\n				\n\n\n					\n					Select options\n					\n					\n				\n\n				\n					\n\nSaleProduct on sale\n\n\nRetreat with Meg June 2026 writing retreat\n\n\n					$3\,345.00 – $6\,330.00Price range: $3\,345.00 through $6\,330.00\n				\n\n\n					\n					Select options\n					\n					\n				\n\n				\n					\n\nSaleProduct on sale\n\n\nRetreat with Meg November 2026 writing retreat\n\n\n					$2\,845.00 – $5\,410.00Price range: $2\,845.00 through $5\,410.00\n				\n\n\n					\n					Select options\n					\n					\n				\n\n				\n\n\n\nGo on the waitlist\n\n\n\n\n\n\n\nWant to know more? \n\n\n\n\nCheck out the Retreat with Meg writing retreats page\n\n\n\nBook a time to have a chat with Meg\n\n\n\n\nTestimonials\n\n\n\n			\n								\n										\n																																		\n									\n\n									\n						Melinda Charlesworth on her manuscript assessment\n						\n													\n					\n							\n			\n			\n								\n										\n																																		\n									\n\n									\n						Susan Green on her second Retreat with Meg writing retreat\n						\n													\n					\n							\n			\n			\n								\n										\n																																		\n									\n\n									\n						Creates a safe space – Venita M\n						\n													\n					\n							\n			\n			\n								\n										\n																		\n																\n									\n\n									\n						Renewed certainty for my writing – Evodia\n						\n													\n					\n							\n			\n			\n								\n										\n																																		\n									\n\n									\n						Retreat a perfect blend – Cassie S\n						\n													\n					\n							\n			\n			\n								\n										\n																																		\n									\n\n									\n						An absolute must for any writer – Rachel Cook\, Author\n						\n													\n					\n							\n			\n			\n								\n										\n																																		\n									\n\n									\n						Coaching helped to change unhelpful ways of thinking – Venita Munir\, Emerging Author\n						\n													\n					\n							\n			\n			\n								\n										\n																																		\n									\n\n									\n						I learnt so much about myself and writing – Catherine Caddle\, Emerging Writer\n						\n													\n					\n							\n			\n			\n								\n										\n																																		\n									\n\n									\n						Retreat was an incredible experience – Karen Pleskus\, Emerging Writer\n						\n													\n					\n							\n			\n			\n								\n										\n																																		\n									\n\n									\n						Do yourself a favour – Annie Ryall\, Playwright\n						\n													\n					\n							\n			\n			\n								\n										\n																																		\n									\n\n									\n						Highly recommend coaching course and writing retreats – Rhiannon Dowding\, Emerging Writer\n						\n													\n					\n							\n			\n			\n								\n										\n																																		\n									\n\n									\n						Tonnes of energy and curiosity for creative pursuits\, Robyn Allan\, Jeweller\n						\n													\n					\n							\n			\n			\n								\n										\n																																		\n									\n\n									\n						Warmth and kindness was instrumental – Lena\n						\n													\n					\n							\n			\n			\n								\n										\n																																		\n									\n\n									\n						Reignite my joy in writing – Susan Green\n						\n													\n					\n							\n			\n			\n								\n										\n																																		\n									\n\n									\n						Fair appraisal and provided useful recommendations – Phil F\n						\n													\n					\n							\n			\n			\n								\n										\n																																		\n									\n\n									\n						Immediate effect on my outlook and productivity – Adam Gardiner\n						\n													\n					\n							\n			\n			\n								\n										\n																																		\n									\n\n									\n						So much insight and focus – Jo Dixon\n						\n													\n					\n							\n			\n			\n								\n										\n																																		\n									\n\n									\n						A wonderful host and leader – Mira Robertson\n						\n													\n					\n							\n			\n			\n								\n										\n																																		\n									\n\n									\n						An amazing bootcamp for my writing – Susannah Glenn\n						\n													\n					\n							\n			\n			\n								\n										\n																																		\n									\n\n									\n						Born to run retreats and coach creative people – Carolyn Leslie\n						\n													\n					\n							\n			\n			\n								\n										\n																																		\n									\n\n									\n						Highly recommend retreat & coaching – Josephine Daly\n						\n													\n					\n							\n			\n			\n								\n										\n																																		\n									\n\n									\n						Writing Momentum is a really useful program – Meg Mappin\n						\n													\n					\n							\n			\n			\n								\n										\n																																		\n									\n\n									\n						Retreat was exciting\, stimulating – Cheryl\n						\n													\n					\n							\n			\n			\n								\n										\n																																		\n									\n\n									\n						Well organised\, thoughtful and generous – Jan Cochrane Harry\n						\n													\n					\n							\n			\n			\n								\n										\n																																		\n									\n\n									\n						Beneficial in all aspects – Airdre Grant\n						\n													\n					\n							\n			\n			\n								\n										\n																																		\n									\n\n									\n						Meg’s retreat was a great experience – Venita\n						\n													\n					\n							\n			\n			\n								\n										\n																																		\n									\n\n									\n						A safe and supportive environment – Carolyn Nicholson\n						\n													\n					\n							\n			\n			\n								\n										\n																																		\n									\n\n									\n						My third Retreat with Meg – Melissa Manning\n						\n													\n					\n							\n			\n			\n								\n										\n																																		\n									\n\n									\n						A truly remarkable experience – Bro O’Brien\n						\n													\n					\n							\n			\n			\n								\n										\n																																		\n									\n\n									\n						Only regret was having to pack up – Julie Twohig\n						\n													\n					\n							\n			\n\n\n\n\n\n\n\n\n\n\n\nLike this? Share it with your people:\n				Share on Facebook (Opens in new window)\n				Facebook\n			\n				Share on LinkedIn (Opens in new window)\n				LinkedIn\n			\n				Share on Bluesky (Opens in new window)\n				Bluesky\n			\n				Share on Threads (Opens in new window)\n				Threads\n			\n				Share on WhatsApp (Opens in new window)\n				WhatsApp\n			\n				Share on Mastodon (Opens in new window)\n				Mastodon\n			\n				Email a link to a friend (Opens in new window)\n				Email\n			\n				Print (Opens in new window)\n				Print\n			More\n				Share on Telegram (Opens in new window)\n				Telegram\n			\n				Share on Nextdoor (Opens in new window)\n				Nextdoor\n			Like this:Like Loading...
URL:https://megdunley.com/event/retreat-with-meg-november-2026/
LOCATION:Karma Kinglake\, 14 Ward Street\, Kinglake\, Victoria\, 3763\, Australia
CATEGORIES:Writing retreats
ATTACH;FMTTYPE=image/avif:https://megdunley.com/wp-content/uploads/2025/05/8c462380-8a0e-46cd-93f9-3568bea2d1b2.avif
END:VEVENT
BEGIN:VEVENT
DTSTART;TZID=Australia/Melbourne:20261207T123000
DTEND;TZID=Australia/Melbourne:20261207T133000
DTSTAMP:20260425T050407
CREATED:20251114T053358Z
LAST-MODIFIED:20260213T092914Z
UID:10000269-1796646600-1796650200@megdunley.com
SUMMARY:Building your creative support system group coaching masterclass
DESCRIPTION:Group coaching masterclasses are for creatives who want to strengthen their mindset and build sustainable creative practices.\n\n\n\n\n\n\n\nThis month we’ll explore how to identify what you need\, ask for help\, and create accountability that actually works\n\n\n\n\nJoin me for monthly interactive sessions where we explore practical strategies for common creative challenges—from overcoming self-doubt and comparison to building courage\, setting boundaries\, and maintaining momentum through life’s different seasons. \n\n\n\nEach masterclass combines teaching\, reflection exercises\, and community discussion\, with dedicated time for your questions. Whether you’re navigating a creative transition\, struggling with burnout\, or simply want to grow alongside others who understand the creative journey\, these sessions offer both tools and connection. \n\n\n\n\n \n\n\n\nHow to Join\n\n\n\nYou can choose the option that suits you — Zoom links are sent the day before the live session\, and replays are sent within 24 hours after the session: \n\n\n\n🎟️ Single Masterclass Ticket – $20 \n\n\n\n\nAccess this one session — live or replay included\n\n\n\nPerfect if you want to focus on a single topic or join occasionally\n\n\n\n\n📅 Spark Pass – 12 Months of Masterclasses – $180 \n\n\n\n\nAccess all 10+ monthly masterclasses for 12 months from purchase\n\n\n\nLive or replay included for every session\n\n\n\n\n\nNot ready for a full year? Try a single session first.\n\n\n\n\nBuy a single masterclass ticket\n\n\n\nBuy a Spark Pass \n\n\n\n\n\n\n\n\n\nAdditional Info:\n\n\n\n\nCurrent coaching members and program participants receive free access to the group coaching masterclasses. Non-members can join individual sessions for $20 or purchase a Spark Pass for 12-month access.\n\n\n\nAll ticket and pass holders receive the Zoom link within 24 hours before the live session\, and the replay is sent within 24 hours after the session.\n\n\n\n\n\n\n\n\n\nGrab your seat for this masterclass\, or secure full-year access with the Spark Pass.\n\n\n\n\nBuy a single masterclass ticket\n\n\n\nBuy a Spark Pass\n\n\n\n\n\n\n\n\n\n \nLike this? Share it with your people:\n				Share on Facebook (Opens in new window)\n				Facebook\n			\n				Share on LinkedIn (Opens in new window)\n				LinkedIn\n			\n				Share on Bluesky (Opens in new window)\n				Bluesky\n			\n				Share on Threads (Opens in new window)\n				Threads\n			\n				Share on WhatsApp (Opens in new window)\n				WhatsApp\n			\n				Share on Mastodon (Opens in new window)\n				Mastodon\n			\n				Email a link to a friend (Opens in new window)\n				Email\n			\n				Print (Opens in new window)\n				Print\n			More\n				Share on Telegram (Opens in new window)\n				Telegram\n			\n				Share on Nextdoor (Opens in new window)\n				Nextdoor\n			Like this:Like Loading...
URL:https://megdunley.com/event/building-your-creative-support-system-group-coaching-masterclass/
CATEGORIES:Group Coaching
ATTACH;FMTTYPE=image/png:https://megdunley.com/wp-content/uploads/2025/11/DEC-2026.png
END:VEVENT
END:VCALENDAR